BEGIN:VCALENDAR
VERSION:2.0
PRODID:-//AccessEAP - ECPv6.15.13//NONSGML v1.0//EN
CALSCALE:GREGORIAN
METHOD:PUBLISH
X-WR-CALNAME:AccessEAP
X-ORIGINAL-URL:https://www.accesseap.com.au
X-WR-CALDESC:Events for AccessEAP
REFRESH-INTERVAL;VALUE=DURATION:PT1H
X-Robots-Tag:noindex
X-PUBLISHED-TTL:PT1H
BEGIN:VTIMEZONE
TZID:Australia/Sydney
BEGIN:STANDARD
TZOFFSETFROM:+1100
TZOFFSETTO:+1000
TZNAME:AEST
DTSTART:20250405T160000
END:STANDARD
BEGIN:DAYLIGHT
TZOFFSETFROM:+1000
TZOFFSETTO:+1100
TZNAME:AEDT
DTSTART:20251004T160000
END:DAYLIGHT
BEGIN:STANDARD
TZOFFSETFROM:+1100
TZOFFSETTO:+1000
TZNAME:AEST
DTSTART:20260404T160000
END:STANDARD
BEGIN:DAYLIGHT
TZOFFSETFROM:+1000
TZOFFSETTO:+1100
TZNAME:AEDT
DTSTART:20261003T160000
END:DAYLIGHT
BEGIN:STANDARD
TZOFFSETFROM:+1100
TZOFFSETTO:+1000
TZNAME:AEST
DTSTART:20270403T160000
END:STANDARD
BEGIN:DAYLIGHT
TZOFFSETFROM:+1000
TZOFFSETTO:+1100
TZNAME:AEDT
DTSTART:20271002T160000
END:DAYLIGHT
END:VTIMEZONE
BEGIN:VEVENT
DTSTART;VALUE=DATE:20260102
DTEND;VALUE=DATE:20260103
DTSTAMP:20260422T031105
CREATED:20251222T035911Z
LAST-MODIFIED:20251222T035911Z
UID:11818-1767312000-1767398399@www.accesseap.com.au
SUMMARY:World Introvert Day
DESCRIPTION:
URL:https://www.accesseap.com.au/awareness-calendar/world-introvert-day-2/
END:VEVENT
BEGIN:VEVENT
DTSTART;VALUE=DATE:20260104
DTEND;VALUE=DATE:20260105
DTSTAMP:20260422T031105
CREATED:20251222T035910Z
LAST-MODIFIED:20251222T035910Z
UID:11817-1767484800-1767571199@www.accesseap.com.au
SUMMARY:World Braille Day
DESCRIPTION:
URL:https://www.accesseap.com.au/awareness-calendar/world-braille-day-2/
END:VEVENT
BEGIN:VEVENT
DTSTART;VALUE=DATE:20260118
DTEND;VALUE=DATE:20260119
DTSTAMP:20260422T031105
CREATED:20251222T035911Z
LAST-MODIFIED:20251222T035911Z
UID:11819-1768694400-1768780799@www.accesseap.com.au
SUMMARY:World Religion Day
DESCRIPTION:
URL:https://www.accesseap.com.au/awareness-calendar/world-religion-day-2/
END:VEVENT
BEGIN:VEVENT
DTSTART;VALUE=DATE:20260124
DTEND;VALUE=DATE:20260125
DTSTAMP:20260422T031105
CREATED:20251222T035912Z
LAST-MODIFIED:20251222T035912Z
UID:11820-1769212800-1769299199@www.accesseap.com.au
SUMMARY:International Day of Education
DESCRIPTION:
URL:https://www.accesseap.com.au/awareness-calendar/international-day-of-education-2/
END:VEVENT
END:VCALENDAR